BEGIN:VCALENDAR
VERSION:2.0
PRODID:-//Neighbors Together - ECPv6.15.20//NONSGML v1.0//EN
CALSCALE:GREGORIAN
METHOD:PUBLISH
X-ORIGINAL-URL:https://neighborstogethersc.org
X-WR-CALDESC:Events for Neighbors Together
REFRESH-INTERVAL;VALUE=DURATION:PT1H
X-Robots-Tag:noindex
X-PUBLISHED-TTL:PT1H
BEGIN:VTIMEZONE
TZID:America/New_York
BEGIN:DAYLIGHT
TZOFFSETFROM:-0500
TZOFFSETTO:-0400
TZNAME:EDT
DTSTART:20210314T070000
END:DAYLIGHT
BEGIN:STANDARD
TZOFFSETFROM:-0400
TZOFFSETTO:-0500
TZNAME:EST
DTSTART:20211107T060000
END:STANDARD
BEGIN:DAYLIGHT
TZOFFSETFROM:-0500
TZOFFSETTO:-0400
TZNAME:EDT
DTSTART:20220313T070000
END:DAYLIGHT
BEGIN:STANDARD
TZOFFSETFROM:-0400
TZOFFSETTO:-0500
TZNAME:EST
DTSTART:20221106T060000
END:STANDARD
BEGIN:DAYLIGHT
TZOFFSETFROM:-0500
TZOFFSETTO:-0400
TZNAME:EDT
DTSTART:20230312T070000
END:DAYLIGHT
BEGIN:STANDARD
TZOFFSETFROM:-0400
TZOFFSETTO:-0500
TZNAME:EST
DTSTART:20231105T060000
END:STANDARD
END:VTIMEZONE
BEGIN:VEVENT
DTSTART;TZID=America/New_York:20220514T110000
DTEND;TZID=America/New_York:20220514T123000
DTSTAMP:20260423T211644
CREATED:20220331T121213Z
LAST-MODIFIED:20220331T121741Z
UID:1741-1652526000-1652531400@neighborstogethersc.org
SUMMARY:Gospel Brunch
DESCRIPTION:Gospel Brunch is a creative worship experience that brings people together across denominations to celebrate God’s love that leads them to serve their community. Neighbors from diverse backgrounds will enjoy great Gospel music\, a tasty brunch\, and good conversation. This is a ticketed event with limited seating. Contact Leola McFadden for more information.
URL:https://neighborstogethersc.org/event/gospel-brunch/
LOCATION:Neighbors Together Campus\, 2105 Cosgrove Ave.\, North Charleston\, SC\, 29406\, United States
ATTACH;FMTTYPE=image/png:https://neighborstogethersc.org/neighbors/wp-content/uploads/2021/10/ntweb-stacked.png
ORGANIZER;CN="Leola McFadden":MAILTO:leola.mcfadden@neighborstogethersc.org
END:VEVENT
END:VCALENDAR