BEGIN:VCALENDAR
VERSION:2.0
PRODID:-//Neighbors Together - ECPv6.15.20//NONSGML v1.0//EN
CALSCALE:GREGORIAN
METHOD:PUBLISH
X-ORIGINAL-URL:https://neighborstogethersc.org
X-WR-CALDESC:Events for Neighbors Together
REFRESH-INTERVAL;VALUE=DURATION:PT1H
X-Robots-Tag:noindex
X-PUBLISHED-TTL:PT1H
BEGIN:VTIMEZONE
TZID:America/New_York
BEGIN:DAYLIGHT
TZOFFSETFROM:-0500
TZOFFSETTO:-0400
TZNAME:EDT
DTSTART:20210314T070000
END:DAYLIGHT
BEGIN:STANDARD
TZOFFSETFROM:-0400
TZOFFSETTO:-0500
TZNAME:EST
DTSTART:20211107T060000
END:STANDARD
BEGIN:DAYLIGHT
TZOFFSETFROM:-0500
TZOFFSETTO:-0400
TZNAME:EDT
DTSTART:20220313T070000
END:DAYLIGHT
BEGIN:STANDARD
TZOFFSETFROM:-0400
TZOFFSETTO:-0500
TZNAME:EST
DTSTART:20221106T060000
END:STANDARD
BEGIN:DAYLIGHT
TZOFFSETFROM:-0500
TZOFFSETTO:-0400
TZNAME:EDT
DTSTART:20230312T070000
END:DAYLIGHT
BEGIN:STANDARD
TZOFFSETFROM:-0400
TZOFFSETTO:-0500
TZNAME:EST
DTSTART:20231105T060000
END:STANDARD
END:VTIMEZONE
BEGIN:VEVENT
DTSTART;TZID=America/New_York:20220609T110000
DTEND;TZID=America/New_York:20220609T130000
DTSTAMP:20260423T201324
CREATED:20220513T145121Z
LAST-MODIFIED:20220513T145127Z
UID:1778-1654772400-1654779600@neighborstogethersc.org
SUMMARY:Career Navigation Class
DESCRIPTION:Goodwill and Neighbor Together will be partnering for a Career Navigation class focused on resume writing\, job interviews and getting diplomas on June 9th. This is part of our Economic Mobility program launch. The class will be held at the Neighbors Together Center (2105 Cosgrovew Ave.\, North Charleston\, SC 29405) from 11am – 1pm. The class is free\, just call (843) 747-1788 x-113 to sign-up or email Josh Smalls.  \nTo help our Economic Mobility program continue to grow\, we are looking for professionals who want to share their knowledge with our neighbors! We need pros in areas from resume writing to marketing\, to help people launch careers and even start their own businesses. If you can donate your time and expertise\, please contact Lydia Ford today!
URL:https://neighborstogethersc.org/event/career-navigation-class/
LOCATION:Neighbors Together Campus\, 2105 Cosgrove Ave.\, North Charleston\, SC\, 29406\, United States
ORGANIZER;CN="Josh Smalls":MAILTO:jsmalls@neighborstogethersc.org
END:VEVENT
END:VCALENDAR