BEGIN:VCALENDAR
VERSION:2.0
PRODID:-//Neighbors Together - ECPv6.15.20//NONSGML v1.0//EN
CALSCALE:GREGORIAN
METHOD:PUBLISH
X-ORIGINAL-URL:https://neighborstogethersc.org
X-WR-CALDESC:Events for Neighbors Together
REFRESH-INTERVAL;VALUE=DURATION:PT1H
X-Robots-Tag:noindex
X-PUBLISHED-TTL:PT1H
BEGIN:VTIMEZONE
TZID:America/New_York
BEGIN:DAYLIGHT
TZOFFSETFROM:-0500
TZOFFSETTO:-0400
TZNAME:EDT
DTSTART:20210314T070000
END:DAYLIGHT
BEGIN:STANDARD
TZOFFSETFROM:-0400
TZOFFSETTO:-0500
TZNAME:EST
DTSTART:20211107T060000
END:STANDARD
BEGIN:DAYLIGHT
TZOFFSETFROM:-0500
TZOFFSETTO:-0400
TZNAME:EDT
DTSTART:20220313T070000
END:DAYLIGHT
BEGIN:STANDARD
TZOFFSETFROM:-0400
TZOFFSETTO:-0500
TZNAME:EST
DTSTART:20221106T060000
END:STANDARD
BEGIN:DAYLIGHT
TZOFFSETFROM:-0500
TZOFFSETTO:-0400
TZNAME:EDT
DTSTART:20230312T070000
END:DAYLIGHT
BEGIN:STANDARD
TZOFFSETFROM:-0400
TZOFFSETTO:-0500
TZNAME:EST
DTSTART:20231105T060000
END:STANDARD
END:VTIMEZONE
BEGIN:VEVENT
DTSTART;TZID=America/New_York:20221019T103000
DTEND;TZID=America/New_York:20221019T123000
DTSTAMP:20260423T152020
CREATED:20211106T171344Z
LAST-MODIFIED:20221010T190328Z
UID:1458-1666175400-1666182600@neighborstogethersc.org
SUMMARY:Flu Vaccine Clinic
DESCRIPTION:We are so happy to be offering a flu vaccine clinic for our neighbors on Wednesday\, October 19th. We will be offering these lifesaving shots from 10:30am – 12:30pm. \nBelow is a summary of the benefits of flu vaccination and selected scientific studies that support these benefits.\n\nFlu vaccination can keep you from getting sick with flu.\n\n\n\n\nFlu vaccination prevents millions of illnesses and flu-related doctor’s visits each year. For example\, during  2022-2023 flu vaccination prevented an estimated 7.5 million influenza illnesses\, 3.7 million influenza-associated medical visits\, 105\,000 influenza-associated hospitalizations\, and 6\,300 influenza-associated deaths.Flu Vaccine flyer\nDuring seasons when flu vaccine viruses are similar to circulating flu viruses\, flu vaccine has been shown to reduce the risk of having to go to the doctor with flu by 40 percent to 60 percent.\n\n\n\n\nFlu vaccination has been shown in several studies to reduce severity of illness in people who get vaccinated but still get sick.\n\nA 2021 studyexternal icon showed that among adults\, flu vaccination was associated with a 26% lower risk of ICU admission and a 31% lower risk of death from flu compared to those who were unvaccinated.\n\n\nA 2018 studyexternal icon showed that among adults hospitalized with flu\, vaccinated patients were 59 percent less likely to be admitted to the ICU than those who had not been vaccinated. Among adults in the ICU with flu\, vaccinated patients on average spent 4 fewer days in the hospital than those who were not vaccinated.\n\n\n\n\nFlu vaccination can reduce the risk of flu-associated hospitalization.\n\nFlu vaccination prevents tens of thousands of hospitalizations each year. For example\, during 2019-2020 flu vaccination prevented an estimated 105\,000 flu-related hospitalizations.\nA 2014 studyexternal icon showed that flu vaccination reduced children’s risk of flu-related pediatric intensive care unit (PICU) admission by 74 percent during flu seasons from 2010-2012. A 2017 study found that during 2009-2016\, flu vaccines reduced the risk of flu-associated hospitalization among older adults by about 40 percent on average.\n\n\nA 2018 study showed that from 2012 to 2015\, flu vaccination among adults reduced the risk of being admitted to an intensive care unit (ICU) with flu by 82 percent.\n\n\n\n\nFlu vaccination is an important preventive tool for people with certain chronic health conditions.\n\nFlu vaccination has been associated with lower rates of some cardiac eventsexternal icon among people with heart disease\, especially among those who have had a cardiac event in the past year.\nFlu vaccination can reduce the risk of a flu-related worsening of chronic lung disease (for example\, chronic obstructive pulmonary disease (COPDexternal icon) requiring hospitalization.\nAmong people with diabetesexternal icon and chronic lung diseaseexternal icon\, flu vaccination also has been shown in separate studies to be associated with reduced hospitalizations from a worsening of their chronic condition.\n\n\n\n\nFlu vaccination helps protect pregnant people during and after pregnancy.\n\nVaccination reduces the risk of flu-associated acute respiratory infection in pregnant people by about one-half.\nA 2018 studyexternal icon showed that getting a flu shot reduced a pregnant person’s risk of being hospitalized with flu by an average of 40 percent from 2010-2016.\nA number of studies have shown that in addition to helping to protect pregnant people from flu\, a flu vaccine given during pregnancy helps protect the baby from flu for several months after birth\, when he or she is too young to be vaccinated.\n\n\n\n\nFlu vaccine can be lifesaving in children.\n\nA 2017 study was the first of its kind to show that flu vaccination can significantly reduce a child’s risk of dying from flu.\n\n\n\n\nGetting vaccinated yourself may also protect people around you\, including those who are more vulnerable to serious flu illness\, like babies and young children\, older people\, and people with certain chronic health conditions.\n\nDespite the many benefits offered by flu vaccination\, only about half of Americans get an annual flu vaccine and flu continues to cause millions of illnesses\, hundreds of thousands of hospitalizations and tens of thousands of deaths. Many more people could be protected from flu if more people got vaccinated. \n*References for the studies listed above can be found at Publications on Influenza Vaccine Benefits. Also\, see the A Strong Defense Against Flu: Get Vaccinatedpdf icon! fact sheet.
URL:https://neighborstogethersc.org/event/flu-vaccine-clinic/
LOCATION:Neighbors Together Campus\, 2105 Cosgrove Ave.\, North Charleston\, SC\, 29406\, United States
ATTACH;FMTTYPE=image/jpeg:https://neighborstogethersc.org/neighbors/wp-content/uploads/2021/11/Untitled-800-x-600-px-7.jpg
ORGANIZER;CN="Erin Shoffner":MAILTO:eshoffner@neighborstogethersc.org
END:VEVENT
END:VCALENDAR