BEGIN:VCALENDAR
VERSION:2.0
PRODID:-//Neighbors Together - ECPv6.15.20//NONSGML v1.0//EN
CALSCALE:GREGORIAN
METHOD:PUBLISH
X-ORIGINAL-URL:https://neighborstogethersc.org
X-WR-CALDESC:Events for Neighbors Together
REFRESH-INTERVAL;VALUE=DURATION:PT1H
X-Robots-Tag:noindex
X-PUBLISHED-TTL:PT1H
BEGIN:VTIMEZONE
TZID:America/New_York
BEGIN:DAYLIGHT
TZOFFSETFROM:-0500
TZOFFSETTO:-0400
TZNAME:EDT
DTSTART:20210314T070000
END:DAYLIGHT
BEGIN:STANDARD
TZOFFSETFROM:-0400
TZOFFSETTO:-0500
TZNAME:EST
DTSTART:20211107T060000
END:STANDARD
BEGIN:DAYLIGHT
TZOFFSETFROM:-0500
TZOFFSETTO:-0400
TZNAME:EDT
DTSTART:20220313T070000
END:DAYLIGHT
BEGIN:STANDARD
TZOFFSETFROM:-0400
TZOFFSETTO:-0500
TZNAME:EST
DTSTART:20221106T060000
END:STANDARD
BEGIN:DAYLIGHT
TZOFFSETFROM:-0500
TZOFFSETTO:-0400
TZNAME:EDT
DTSTART:20230312T070000
END:DAYLIGHT
BEGIN:STANDARD
TZOFFSETFROM:-0400
TZOFFSETTO:-0500
TZNAME:EST
DTSTART:20231105T060000
END:STANDARD
END:VTIMEZONE
BEGIN:VEVENT
DTSTART;TZID=America/New_York:20221020T160000
DTEND;TZID=America/New_York:20221020T170000
DTSTAMP:20260423T152031
CREATED:20220926T065527Z
LAST-MODIFIED:20220926T070100Z
UID:1906-1666281600-1666285200@neighborstogethersc.org
SUMMARY:Lowcountry Kickstart Academy Workshop
DESCRIPTION:Come Learn About the Lowcountry Kickstart Academy at Neighbors Together! Join one of our upcoming workshops: Thursday\, October 20th at 4pm or Saturday\, October 22 at 9am. Both workshops are being held at Neighbors Together\, 2105 Cosgrove Ave.\, North Charleston\, SC 29406. The Lowcountry Kickstart Academy\, powered by the CO.STARTERS Core Program will give you the tools you need to build a thriving business. The 11-week course will cover a specific topic for entrepreneurs each week. The next session begins November 12th\, so sign up today! Sign up today by emailing James Smalls at: jpsmalls@neighborstogethersc.org
URL:https://neighborstogethersc.org/event/lowcountry-kickstart-academy-workshop/
LOCATION:Neighbors Together Campus\, 2105 Cosgrove Ave.\, North Charleston\, SC\, 29406\, United States
ATTACH;FMTTYPE=image/jpeg:https://neighborstogethersc.org/neighbors/wp-content/uploads/2022/09/THUMNBAIL-LKA.jpg
ORGANIZER;CN="James Smalls":MAILTO:jpsmalls@neighborstogethersc.org
END:VEVENT
END:VCALENDAR