BEGIN:VCALENDAR
VERSION:2.0
PRODID:-//Neighbors Together - ECPv6.15.20//NONSGML v1.0//EN
CALSCALE:GREGORIAN
METHOD:PUBLISH
X-WR-CALNAME:Neighbors Together
X-ORIGINAL-URL:https://neighborstogethersc.org
X-WR-CALDESC:Events for Neighbors Together
REFRESH-INTERVAL;VALUE=DURATION:PT1H
X-Robots-Tag:noindex
X-PUBLISHED-TTL:PT1H
BEGIN:VTIMEZONE
TZID:America/New_York
BEGIN:DAYLIGHT
TZOFFSETFROM:-0500
TZOFFSETTO:-0400
TZNAME:EDT
DTSTART:20220313T070000
END:DAYLIGHT
BEGIN:STANDARD
TZOFFSETFROM:-0400
TZOFFSETTO:-0500
TZNAME:EST
DTSTART:20221106T060000
END:STANDARD
BEGIN:DAYLIGHT
TZOFFSETFROM:-0500
TZOFFSETTO:-0400
TZNAME:EDT
DTSTART:20230312T070000
END:DAYLIGHT
BEGIN:STANDARD
TZOFFSETFROM:-0400
TZOFFSETTO:-0500
TZNAME:EST
DTSTART:20231105T060000
END:STANDARD
BEGIN:DAYLIGHT
TZOFFSETFROM:-0500
TZOFFSETTO:-0400
TZNAME:EDT
DTSTART:20240310T070000
END:DAYLIGHT
BEGIN:STANDARD
TZOFFSETFROM:-0400
TZOFFSETTO:-0500
TZNAME:EST
DTSTART:20241103T060000
END:STANDARD
END:VTIMEZONE
BEGIN:VEVENT
DTSTART;VALUE=DATE:20230211
DTEND;VALUE=DATE:20230217
DTSTAMP:20260423T102434
CREATED:20230105T213054Z
LAST-MODIFIED:20230202T184338Z
UID:2031-1676073600-1676591999@neighborstogethersc.org
SUMMARY:Volunteer Appreciation Week
DESCRIPTION:Volunteer Appreciation Week is all about celebrating the amazing people who give us their time! \nNothing we do here at Neighbors Together would be possible without the support of these hard working individuals- and we want to make sure that we show how much we LOVE our Volunteers! \nJoin us throughout the week for special treats during your volunteer service- followed by a fellowship Happy Hour at Holy City!
URL:https://neighborstogethersc.org/event/volunteer-appreciation-week/
LOCATION:SC
END:VEVENT
END:VCALENDAR