BEGIN:VCALENDAR
VERSION:2.0
PRODID:-//Neighbors Together - ECPv6.15.20//NONSGML v1.0//EN
CALSCALE:GREGORIAN
METHOD:PUBLISH
X-ORIGINAL-URL:https://neighborstogethersc.org
X-WR-CALDESC:Events for Neighbors Together
REFRESH-INTERVAL;VALUE=DURATION:PT1H
X-Robots-Tag:noindex
X-PUBLISHED-TTL:PT1H
BEGIN:VTIMEZONE
TZID:America/New_York
BEGIN:DAYLIGHT
TZOFFSETFROM:-0500
TZOFFSETTO:-0400
TZNAME:EDT
DTSTART:20220313T070000
END:DAYLIGHT
BEGIN:STANDARD
TZOFFSETFROM:-0400
TZOFFSETTO:-0500
TZNAME:EST
DTSTART:20221106T060000
END:STANDARD
BEGIN:DAYLIGHT
TZOFFSETFROM:-0500
TZOFFSETTO:-0400
TZNAME:EDT
DTSTART:20230312T070000
END:DAYLIGHT
BEGIN:STANDARD
TZOFFSETFROM:-0400
TZOFFSETTO:-0500
TZNAME:EST
DTSTART:20231105T060000
END:STANDARD
BEGIN:DAYLIGHT
TZOFFSETFROM:-0500
TZOFFSETTO:-0400
TZNAME:EDT
DTSTART:20240310T070000
END:DAYLIGHT
BEGIN:STANDARD
TZOFFSETFROM:-0400
TZOFFSETTO:-0500
TZNAME:EST
DTSTART:20241103T060000
END:STANDARD
END:VTIMEZONE
BEGIN:VEVENT
DTSTART;TZID=America/New_York:20230425T183000
DTEND;TZID=America/New_York:20230425T193000
DTSTAMP:20260423T073158
CREATED:20230411T165253Z
LAST-MODIFIED:20230411T165339Z
UID:2263-1682447400-1682451000@neighborstogethersc.org
SUMMARY:Moms Demand Action- Community Peer Grief Support Group
DESCRIPTION:Moms Demand Action is a grassroots movement of Americans fighting for public safety measures that can protect people from gun violence. \nNeighbors Together has partnered with MDA to facilitate a support group designed to provide community for people who are living with grief due to gun violence. This group is meant to be a safe place for individuals to be honest about their situation and its impact on their lives\, and provide positive role models and encouragement that it is possible to feel better. \nA few things to note: \n\nThis is a support group\, not a therapy group.\nThis is a non-judgement zone\, everyone’s healing path is different.\nAttendees are to be active listeners\, please refrain from using any cell phones\, devices etc. (Please step out of the room to take an emergency call)\n\nFor more information please contact Ada Washington at 803-258-0609
URL:https://neighborstogethersc.org/event/mda-grief-support-group/
LOCATION:Neighbors Together Campus\, 2105 Cosgrove Ave.\, North Charleston\, SC\, 29406\, United States
END:VEVENT
END:VCALENDAR