BEGIN:VCALENDAR
VERSION:2.0
PRODID:-//Neighbors Together - ECPv6.15.20//NONSGML v1.0//EN
CALSCALE:GREGORIAN
METHOD:PUBLISH
X-ORIGINAL-URL:https://neighborstogethersc.org
X-WR-CALDESC:Events for Neighbors Together
REFRESH-INTERVAL;VALUE=DURATION:PT1H
X-Robots-Tag:noindex
X-PUBLISHED-TTL:PT1H
BEGIN:VTIMEZONE
TZID:America/New_York
BEGIN:DAYLIGHT
TZOFFSETFROM:-0500
TZOFFSETTO:-0400
TZNAME:EDT
DTSTART:20230312T070000
END:DAYLIGHT
BEGIN:STANDARD
TZOFFSETFROM:-0400
TZOFFSETTO:-0500
TZNAME:EST
DTSTART:20231105T060000
END:STANDARD
BEGIN:DAYLIGHT
TZOFFSETFROM:-0500
TZOFFSETTO:-0400
TZNAME:EDT
DTSTART:20240310T070000
END:DAYLIGHT
BEGIN:STANDARD
TZOFFSETFROM:-0400
TZOFFSETTO:-0500
TZNAME:EST
DTSTART:20241103T060000
END:STANDARD
BEGIN:DAYLIGHT
TZOFFSETFROM:-0500
TZOFFSETTO:-0400
TZNAME:EDT
DTSTART:20250309T070000
END:DAYLIGHT
BEGIN:STANDARD
TZOFFSETFROM:-0400
TZOFFSETTO:-0500
TZNAME:EST
DTSTART:20251102T060000
END:STANDARD
END:VTIMEZONE
BEGIN:VEVENT
DTSTART;TZID=America/New_York:20240511T110000
DTEND;TZID=America/New_York:20240511T130000
DTSTAMP:20260421T073421
CREATED:20240424T162001Z
LAST-MODIFIED:20240424T162151Z
UID:2710-1715425200-1715432400@neighborstogethersc.org
SUMMARY:Wellness Outreach for Women
DESCRIPTION:  \n\nJoin Neighbors Together and the Accabee Community in celebrating our third annual Wellness Outreach for Women (WOW)!\nThis is a day focused on self care\, community\, and learning ways to make mindful steps to improve your heath.\nFeaturing:– Local Leaders Panel– Goodie Bags– Community Partners and Resources– Free Lunch– Kids Corner– Music by DJ\nCome down and celebrate with us on a day that’s just for YOU!\n\n¡Acompaña a Neighbors Together y a la comunidad de Accabee en la celebración de nuestro tercer evento anual\, WOW! Este es un día centrado en el cuidado personal\, la comunidad\, y aprendiendo maneras de tomar pasos conscientes para mejorar su salud.\nCon:\n¡Panel de mujeres diversas discutiendo cuidado personal!¡Bolsas de regalos!¡Alimentos de la comunidad!¡Almuerzo gratis!¡Zona de niños!¡Música!¡Ven a celebrarlo con nosotros en un día que es sólo para TI!
URL:https://neighborstogethersc.org/event/wellness-outreach-for-women/
LOCATION:Perry-Webb Community Center\, 3200 Appleton St\, North Charleston\, SC\, 29405\, United States
END:VEVENT
END:VCALENDAR