BEGIN:VCALENDAR
VERSION:2.0
PRODID:-//Neighbors Together - ECPv6.15.20//NONSGML v1.0//EN
CALSCALE:GREGORIAN
METHOD:PUBLISH
X-ORIGINAL-URL:https://neighborstogethersc.org
X-WR-CALDESC:Events for Neighbors Together
REFRESH-INTERVAL;VALUE=DURATION:PT1H
X-Robots-Tag:noindex
X-PUBLISHED-TTL:PT1H
BEGIN:VTIMEZONE
TZID:America/New_York
BEGIN:DAYLIGHT
TZOFFSETFROM:-0500
TZOFFSETTO:-0400
TZNAME:EDT
DTSTART:20210314T070000
END:DAYLIGHT
BEGIN:STANDARD
TZOFFSETFROM:-0400
TZOFFSETTO:-0500
TZNAME:EST
DTSTART:20211107T060000
END:STANDARD
BEGIN:DAYLIGHT
TZOFFSETFROM:-0500
TZOFFSETTO:-0400
TZNAME:EDT
DTSTART:20220313T070000
END:DAYLIGHT
BEGIN:STANDARD
TZOFFSETFROM:-0400
TZOFFSETTO:-0500
TZNAME:EST
DTSTART:20221106T060000
END:STANDARD
BEGIN:DAYLIGHT
TZOFFSETFROM:-0500
TZOFFSETTO:-0400
TZNAME:EDT
DTSTART:20230312T070000
END:DAYLIGHT
BEGIN:STANDARD
TZOFFSETFROM:-0400
TZOFFSETTO:-0500
TZNAME:EST
DTSTART:20231105T060000
END:STANDARD
END:VTIMEZONE
BEGIN:VEVENT
DTSTART;TZID=America/New_York:20220609T110000
DTEND;TZID=America/New_York:20220609T130000
DTSTAMP:20260423T190244
CREATED:20220513T145121Z
LAST-MODIFIED:20220513T145127Z
UID:1778-1654772400-1654779600@neighborstogethersc.org
SUMMARY:Career Navigation Class
DESCRIPTION:Goodwill and Neighbor Together will be partnering for a Career Navigation class focused on resume writing\, job interviews and getting diplomas on June 9th. This is part of our Economic Mobility program launch. The class will be held at the Neighbors Together Center (2105 Cosgrovew Ave.\, North Charleston\, SC 29405) from 11am – 1pm. The class is free\, just call (843) 747-1788 x-113 to sign-up or email Josh Smalls.  \nTo help our Economic Mobility program continue to grow\, we are looking for professionals who want to share their knowledge with our neighbors! We need pros in areas from resume writing to marketing\, to help people launch careers and even start their own businesses. If you can donate your time and expertise\, please contact Lydia Ford today!
URL:https://neighborstogethersc.org/event/career-navigation-class/
LOCATION:Neighbors Together Campus\, 2105 Cosgrove Ave.\, North Charleston\, SC\, 29406\, United States
ORGANIZER;CN="Josh Smalls":MAILTO:jsmalls@neighborstogethersc.org
END:VEVENT
BEGIN:VEVENT
DTSTART;TZID=America/New_York:20220619T173000
DTEND;TZID=America/New_York:20220626T193000
DTSTAMP:20260423T190244
CREATED:20220603T143853Z
LAST-MODIFIED:20220617T163556Z
UID:1782-1655659800-1656271800@neighborstogethersc.org
SUMMARY:Yoga at Dusk
DESCRIPTION:Join us at St. Johannes Lutheran Church for Yoga at Dusk\, led by Neighbors Together Executive Director Kara Stewart. All levels of experience are welcome to attend. Cost is just $5.00 per session and proceeds will benefit the women’s yoga program at Neighbors Together.  This is a four week series: June 5\, June 12\, June 19 and June 26.
URL:https://neighborstogethersc.org/event/yoga-at-dusk/
LOCATION:St. Johannes Lutheran Church\, 43 Anson Street\, Charleston\, SC\, 29401\, United States
ATTACH;FMTTYPE=image/jpeg:https://neighborstogethersc.org/neighbors/wp-content/uploads/2022/06/Yoga-at-Dusk-800-×-600-px.jpg
END:VEVENT
BEGIN:VEVENT
DTSTART;TZID=America/New_York:20220622T103000
DTEND;TZID=America/New_York:20220622T123000
DTSTAMP:20260423T190244
CREATED:20220617T171511Z
LAST-MODIFIED:20220617T171511Z
UID:1806-1655893800-1655901000@neighborstogethersc.org
SUMMARY:Legal Clinic
DESCRIPTION:Do you have a legal question? Join us for a legal clinic from 10:30am – 12:30pm. Neighbors will be seen on a first come\, first serve basis.
URL:https://neighborstogethersc.org/event/legal-clinic/
LOCATION:Neighbors Together Campus\, 2105 Cosgrove Ave.\, North Charleston\, SC\, 29406\, United States
ATTACH;FMTTYPE=image/jpeg:https://neighborstogethersc.org/neighbors/wp-content/uploads/2022/01/EXECUTIVE-ASSISTANT.jpg
ORGANIZER;CN="Leola McFadden":MAILTO:leola.mcfadden@neighborstogethersc.org
END:VEVENT
BEGIN:VEVENT
DTSTART;TZID=America/New_York:20220626T173000
DTEND;TZID=America/New_York:20220626T183000
DTSTAMP:20260423T190244
CREATED:20220617T163447Z
LAST-MODIFIED:20220617T163447Z
UID:1801-1656264600-1656268200@neighborstogethersc.org
SUMMARY:Yoga at Dusk June 26
DESCRIPTION:Join us at St. Johannes Lutheran Church for Yoga at Dusk\, led by Neighbors Together Executive Director Kara Stewart. All levels of experience are welcome to attend. Cost is just $5.00 per session and proceeds will benefit the women’s yoga program at Neighbors Together.  This is a four week series: June 5\, June 12\, June 19 and June 26.
URL:https://neighborstogethersc.org/event/yoga-at-dusk-june-26/
LOCATION:St. Johannes Lutheran Church\, 43 Anson Street\, Charleston\, SC\, 29401\, United States
ATTACH;FMTTYPE=image/jpeg:https://neighborstogethersc.org/neighbors/wp-content/uploads/2022/06/Yoga-at-Dusk-800-×-600-px.jpg
END:VEVENT
END:VCALENDAR