BEGIN:VCALENDAR
VERSION:2.0
PRODID:-//Neighbors Together - ECPv6.15.20//NONSGML v1.0//EN
CALSCALE:GREGORIAN
METHOD:PUBLISH
X-ORIGINAL-URL:https://neighborstogethersc.org
X-WR-CALDESC:Events for Neighbors Together
REFRESH-INTERVAL;VALUE=DURATION:PT1H
X-Robots-Tag:noindex
X-PUBLISHED-TTL:PT1H
BEGIN:VTIMEZONE
TZID:America/New_York
BEGIN:DAYLIGHT
TZOFFSETFROM:-0500
TZOFFSETTO:-0400
TZNAME:EDT
DTSTART:20210314T070000
END:DAYLIGHT
BEGIN:STANDARD
TZOFFSETFROM:-0400
TZOFFSETTO:-0500
TZNAME:EST
DTSTART:20211107T060000
END:STANDARD
BEGIN:DAYLIGHT
TZOFFSETFROM:-0500
TZOFFSETTO:-0400
TZNAME:EDT
DTSTART:20220313T070000
END:DAYLIGHT
BEGIN:STANDARD
TZOFFSETFROM:-0400
TZOFFSETTO:-0500
TZNAME:EST
DTSTART:20221106T060000
END:STANDARD
BEGIN:DAYLIGHT
TZOFFSETFROM:-0500
TZOFFSETTO:-0400
TZNAME:EDT
DTSTART:20230312T070000
END:DAYLIGHT
BEGIN:STANDARD
TZOFFSETFROM:-0400
TZOFFSETTO:-0500
TZNAME:EST
DTSTART:20231105T060000
END:STANDARD
END:VTIMEZONE
BEGIN:VEVENT
DTSTART;TZID=America/New_York:20220906T130000
DTEND;TZID=America/New_York:20220906T140000
DTSTAMP:20260423T152421
CREATED:20220901T154850Z
LAST-MODIFIED:20220901T154850Z
UID:1875-1662469200-1662472800@neighborstogethersc.org
SUMMARY:Nutrition Class
DESCRIPTION:Neighbors Together and GroceryRx are partnering to bring an exciting\, hands-on nutrition class experience to our neighbors! GroceryRx is a 12-week nutrition and cooking class offered to low-income neighbors with chronic disease. Our focus is on improving health outcomes and increasing access to fresh\, local produce through weekly fruit and vegetable deliveries. \nLearn about the importance of breakfast during a cooking demo\, learn quick and easy breakfast recipes made with local vegetables and explored how to navigate nutrition facts labels to make informed food choices.   \nIf you are interested in joining class next session\, contact your case manager!
URL:https://neighborstogethersc.org/event/nutrition-class/
LOCATION:Neighbors Together Campus\, 2105 Cosgrove Ave.\, North Charleston\, SC\, 29406\, United States
ATTACH;FMTTYPE=image/jpeg:https://neighborstogethersc.org/neighbors/wp-content/uploads/2022/09/Untitled-300-×-250-px-4.jpg
ORGANIZER;CN="Erin Shoffner":MAILTO:eshoffner@neighborstogethersc.org
END:VEVENT
BEGIN:VEVENT
DTSTART;TZID=America/New_York:20220915T190000
DTEND;TZID=America/New_York:20220915T220000
DTSTAMP:20260423T152421
CREATED:20220829T160547Z
LAST-MODIFIED:20220829T173821Z
UID:1868-1663268400-1663279200@neighborstogethersc.org
SUMMARY:Birthday Bash Food Truck Roundup
DESCRIPTION:Birthday Bash Food Truck Roundup\nCome join the Neighbors Together Birthday Bash Food Truck Roundup at Firefly Distillery\, Thursday\, September 15 from 7pm – 10pm! You’ll find food from Charleston’s hottest food trucks\, live music\, cornhole and much\, much\, more as we celebrate 39 years of serving neighbors in the Tricounty area. Since 1983\, Neighbors Together has provided food\, clothing\, medical care\, sheltering\, career guidance\, financial assistance \, legal assistance and other vital services to our neighbors. Don’t miss the Neighbors Together Birthday Bash at Firefly Distillery\, 4201 Spruill Ave.\, North Charleston\, SC 29405 \nTickets are $50 and proceeds for sales will go to support the ongoing programming for our neighbors. Live music from The Tapedecks! \nFood Trucks\n\nThe Pita Stroller\nTamashi\n& Lobster\nFed Up\nCo-Hog\n\nSponsorship Levels\n\nGood Neighbor ($500): 2 Tickets / Eblast mention / banner / tshirt\nCommunity Partner ($1\,000): 4 Tickets. / Community Partner / two eblast logos / banner / tshirt)\nFood Truck Sponsor ($2\,000): 6 Tickets /Name on one food truck / 4 eblast logos / banner / tshirt\nFood Truck Village Sponsor ($10\,000): 8 Tickets /Sponsor entire food truck village /  four eblast logos / banner / tshirt / logo in all ads\nPresenting Sponsor ($20\,000):  10 Tickets / Presenting Sponsor / 8 eblast logos / banner / tshirt / logo in all ads\n\nCLICK HERE to become a sponsor.
URL:https://neighborstogethersc.org/event/birthday-bash-food-truck-roundup/
LOCATION:Firefly Distillery\, 4201 Spruill Ave.\, North Charleston\, SC\, 29405\, United States
ATTACH;FMTTYPE=image/jpeg:https://neighborstogethersc.org/neighbors/wp-content/uploads/2022/08/NETO-10-Food-Truck-Roundup-800x600-1.jpg
ORGANIZER;CN="Lydia Ford":MAILTO:lford@neighborstogethersc.org
END:VEVENT
BEGIN:VEVENT
DTSTART;TZID=America/New_York:20220928T103000
DTEND;TZID=America/New_York:20220928T120000
DTSTAMP:20260423T152421
CREATED:20220906T212939Z
LAST-MODIFIED:20220928T104016Z
UID:1880-1664361000-1664366400@neighborstogethersc.org
SUMMARY:Free HIV Testing
DESCRIPTION:
URL:https://neighborstogethersc.org/event/free-hiv-testing/
LOCATION:Neighbors Together Campus\, 2105 Cosgrove Ave.\, North Charleston\, SC\, 29406\, United States
ORGANIZER;CN="Erin Shoffner":MAILTO:eshoffner@neighborstogethersc.org
END:VEVENT
END:VCALENDAR