BEGIN:VCALENDAR
VERSION:2.0
PRODID:-//Neighbors Together - ECPv6.15.20//NONSGML v1.0//EN
CALSCALE:GREGORIAN
METHOD:PUBLISH
X-ORIGINAL-URL:https://neighborstogethersc.org
X-WR-CALDESC:Events for Neighbors Together
REFRESH-INTERVAL;VALUE=DURATION:PT1H
X-Robots-Tag:noindex
X-PUBLISHED-TTL:PT1H
BEGIN:VTIMEZONE
TZID:America/New_York
BEGIN:DAYLIGHT
TZOFFSETFROM:-0500
TZOFFSETTO:-0400
TZNAME:EDT
DTSTART:20210314T070000
END:DAYLIGHT
BEGIN:STANDARD
TZOFFSETFROM:-0400
TZOFFSETTO:-0500
TZNAME:EST
DTSTART:20211107T060000
END:STANDARD
BEGIN:DAYLIGHT
TZOFFSETFROM:-0500
TZOFFSETTO:-0400
TZNAME:EDT
DTSTART:20220313T070000
END:DAYLIGHT
BEGIN:STANDARD
TZOFFSETFROM:-0400
TZOFFSETTO:-0500
TZNAME:EST
DTSTART:20221106T060000
END:STANDARD
BEGIN:DAYLIGHT
TZOFFSETFROM:-0500
TZOFFSETTO:-0400
TZNAME:EDT
DTSTART:20230312T070000
END:DAYLIGHT
BEGIN:STANDARD
TZOFFSETFROM:-0400
TZOFFSETTO:-0500
TZNAME:EST
DTSTART:20231105T060000
END:STANDARD
BEGIN:DAYLIGHT
TZOFFSETFROM:-0500
TZOFFSETTO:-0400
TZNAME:EDT
DTSTART:20240310T070000
END:DAYLIGHT
BEGIN:STANDARD
TZOFFSETFROM:-0400
TZOFFSETTO:-0500
TZNAME:EST
DTSTART:20241103T060000
END:STANDARD
END:VTIMEZONE
BEGIN:VEVENT
DTSTART;VALUE=DATE:20221219
DTEND;VALUE=DATE:20230102
DTSTAMP:20260423T103545
CREATED:20221108T202121Z
LAST-MODIFIED:20221108T202121Z
UID:1972-1671408000-1672617599@neighborstogethersc.org
SUMMARY:Holiday Hours- CLOSED
DESCRIPTION:Neighbors Together will be closed to public from Monday December 19th until Sunday January 1st. We will return to normal services Monday January 2nd.
URL:https://neighborstogethersc.org/event/holiday-hours-closed/
LOCATION:SC
END:VEVENT
BEGIN:VEVENT
DTSTART;VALUE=DATE:20230116
DTEND;VALUE=DATE:20230117
DTSTAMP:20260423T103545
CREATED:20230110T182114Z
LAST-MODIFIED:20230110T182114Z
UID:2044-1673827200-1673913599@neighborstogethersc.org
SUMMARY:MLK Day- N. Chas Office Closed
DESCRIPTION:
URL:https://neighborstogethersc.org/event/mlk-day-n-chas-office-closed/
LOCATION:SC
END:VEVENT
BEGIN:VEVENT
DTSTART;TZID=America/New_York:20230116T080000
DTEND;TZID=America/New_York:20230116T120000
DTSTAMP:20260423T103545
CREATED:20230103T181532Z
LAST-MODIFIED:20230112T211947Z
UID:2011-1673856000-1673870400@neighborstogethersc.org
SUMMARY:MLK Day Parade (W.E.S.S.)
DESCRIPTION:Join Neighbors Together’s MLK Parade Walking Group! \nIn this installment of our Women’s Empowerment Summit Series\, Neighbors Together staff and participants will be meeting at 8AM for the parade line up\, walking the route\, then regrouping coffee and reflection immediately after the parade ends. \nIf you are interested in joining us for this event please RSVP to our Community Engagement Coordinator Paula Waters by Friday January 13th!
URL:https://neighborstogethersc.org/event/mlk-day-parade-w-e-s-s/
LOCATION:SC
END:VEVENT
END:VCALENDAR