BEGIN:VCALENDAR
VERSION:2.0
PRODID:-//Neighbors Together - ECPv6.15.20//NONSGML v1.0//EN
CALSCALE:GREGORIAN
METHOD:PUBLISH
X-WR-CALNAME:Neighbors Together
X-ORIGINAL-URL:https://neighborstogethersc.org
X-WR-CALDESC:Events for Neighbors Together
REFRESH-INTERVAL;VALUE=DURATION:PT1H
X-Robots-Tag:noindex
X-PUBLISHED-TTL:PT1H
BEGIN:VTIMEZONE
TZID:America/New_York
BEGIN:DAYLIGHT
TZOFFSETFROM:-0500
TZOFFSETTO:-0400
TZNAME:EDT
DTSTART:20220313T070000
END:DAYLIGHT
BEGIN:STANDARD
TZOFFSETFROM:-0400
TZOFFSETTO:-0500
TZNAME:EST
DTSTART:20221106T060000
END:STANDARD
BEGIN:DAYLIGHT
TZOFFSETFROM:-0500
TZOFFSETTO:-0400
TZNAME:EDT
DTSTART:20230312T070000
END:DAYLIGHT
BEGIN:STANDARD
TZOFFSETFROM:-0400
TZOFFSETTO:-0500
TZNAME:EST
DTSTART:20231105T060000
END:STANDARD
BEGIN:DAYLIGHT
TZOFFSETFROM:-0500
TZOFFSETTO:-0400
TZNAME:EDT
DTSTART:20240310T070000
END:DAYLIGHT
BEGIN:STANDARD
TZOFFSETFROM:-0400
TZOFFSETTO:-0500
TZNAME:EST
DTSTART:20241103T060000
END:STANDARD
END:VTIMEZONE
BEGIN:VEVENT
DTSTART;TZID=America/New_York:20231108T103000
DTEND;TZID=America/New_York:20231108T123000
DTSTAMP:20260421T140307
CREATED:20230105T142242Z
LAST-MODIFIED:20231031T161818Z
UID:2013-1699439400-1699446600@neighborstogethersc.org
SUMMARY:Free Legal Clinic
DESCRIPTION:Legal Advice Provided by SC Legal Services \nExamples of Service: \n\nVital Records\nDisability Claims\nChild Support\nSocial Security\nLandlord-Tennant Issues\n\n  \n 
URL:https://neighborstogethersc.org/event/free-legal-clinic/
LOCATION:SC
END:VEVENT
BEGIN:VEVENT
DTSTART;TZID=America/New_York:20231122T103000
DTEND;TZID=America/New_York:20231122T123000
DTSTAMP:20260421T140307
CREATED:20230214T184142Z
LAST-MODIFIED:20230214T184215Z
UID:2150-1700649000-1700656200@neighborstogethersc.org
SUMMARY:Thanksgiving Eve Celebration
DESCRIPTION:Join our team for a special holiday meal that will be served to our neighbors the day before Thanksgiving. \nIn addition to the traditional meal\, each neighbor will receive a grocery bag filled with everything needed to create a holiday meal at home. \n 
URL:https://neighborstogethersc.org/event/thanksgiving-eve-celebration/
LOCATION:Neighbors Together Campus\, 2105 Cosgrove Ave.\, North Charleston\, SC\, 29406\, United States
END:VEVENT
BEGIN:VEVENT
DTSTART;VALUE=DATE:20231123
DTEND;VALUE=DATE:20231124
DTSTAMP:20260421T140307
CREATED:20230214T185740Z
LAST-MODIFIED:20230214T191245Z
UID:2168-1700697600-1700783999@neighborstogethersc.org
SUMMARY:Closed Thanksgiving Day
DESCRIPTION:Neighbors Together will be CLOSED November 23rd in observance of Thanksgiving.
URL:https://neighborstogethersc.org/event/thanksgiving-day-n-chas-office-closed/
LOCATION:SC
END:VEVENT
END:VCALENDAR